BEGIN:VCALENDAR
VERSION:2.0
PRODID:-//hacksw/handcal//NONSGML v1.0//EN
BEGIN:VEVENT
DTSTAMP:20181026T030000Z
DTSTART:20181026T030000Z
DTEND:20181026T050000Z

SUMMARY:The Naked Magicians
DESCRIPTION:Seen on London’s West End, in 200+ cities around the world, and by over 50 million on TV (NBC, ABC, FOX, iTV) – The Naked Magicians is undoubtedly the world’s funniest and naughtiest magic show!The show features magic, mirth and more than a touch of mayhem as these two hot and hilarious Aussie magicians say abracadabra and take magic to a whole new level.This boisterous R-rated magic show strips away the top hats and capes, promising full-frontal illusions. Left without sleeves or pockets, their saucy magic is baffling and entertaining, bringing a new meaning to “now you see it”.Good magicians don’t need sleeves and great magicians don’t need pants. This show proves just that!Facebook -  The Naked MagiciansInstagram - @thenakedmagiciansTwitter - @nakedmagiciansWebsite - www.nakedmagicians.com18+ only. Includes coarse language, sexual references and male nudity... get ready to have some fun!For a very cheeky night out, purchase VIP tickets which include a premium seat, photo opportunity and meet and greet with The Naked Magicians.
END:VEVENT
END:VCALENDAR