BEGIN:VCALENDAR
VERSION:2.0
PRODID:-//hacksw/handcal//NONSGML v1.0//EN
BEGIN:VEVENT
DTSTAMP:20260606T030000Z
DTSTART:20260606T030000Z
DTEND:20260606T050000Z

SUMMARY:Stryper 
DESCRIPTION:Stryper is an American Christian heavy metal band formed in 1983 in Orange County, California, known for being the first overtly faith-based group to achieve mainstream success in the genre. The band, recognized by their iconic yellow and black striped outfits, reached their commercial peak in the mid-1980s with the multi-platinum album To Hell with the Devil and MTV hits like "Honestly".Mike Tramp is a Danish singer-songwriter who rose to fame as the frontman of the glam metal band White Lion, leading them to multi-platinum success in the late 1980s with hits like "Wait" and "When the Children Cry".
END:VEVENT
END:VCALENDAR