BEGIN:VCALENDAR
VERSION:2.0
PRODID:-//hacksw/handcal//NONSGML v1.0//EN
BEGIN:VEVENT
DTSTAMP:20260516T030000Z
DTSTART:20260516T030000Z
DTEND:20260516T050000Z

SUMMARY:Jorge Lozano H - Libera La Fiera World Tour
DESCRIPTION:Destacado por su carisma y habilidad para conectar con audiencias de todas las edades, Jorge Lozano H se ha consolidado como uno de los más reconocidos conferencistas de México.El originario de Monterrey, Nuevo León, ha construido una carrera sólida ofreciendo mensajes que combinan humor, consejos prácticos y reflexiones profundas, especialmente en temas  Noted for his charisma and ability to connect with audiences of all ages, Jorge Lozano H has established himself as one of the most recognized speakers in Mexico.The native of Monterrey, Nuevo León, has built a solid career offering messages that combine humor, practical advice and deep reflections, especially on topics 
END:VEVENT
END:VCALENDAR