BEGIN:VCALENDAR
VERSION:2.0
PRODID:-//hacksw/handcal//NONSGML v1.0//EN
BEGIN:VEVENT
DTSTAMP:20260626T023000Z
DTSTART:20260626T023000Z
DTEND:20260626T043000Z

SUMMARY:Jon Anderson & The Band Geeks
DESCRIPTION:Jon Anderson, the legendary voice of YES, and The Band Geeks come together for an extraordinary evening of progressive rock classics and fan favorites. Experience iconic YES epics, solo material, alongside songs from their critically acclaimed debut album, TRUE.
END:VEVENT
END:VCALENDAR