BEGIN:VCALENDAR
VERSION:2.0
PRODID:-//hacksw/handcal//NONSGML v1.0//EN
BEGIN:VEVENT
DTSTAMP:20261212T030000Z
DTSTART:20261212T030000Z
DTEND:20261212T050000Z

SUMMARY:Derrick Stroup - Running Hot Tour
DESCRIPTION:Derrick Stroup is a fast-rising stand-up comedian and actor from Alabama, widely recognized for his highenergy delivery and detailed storytelling about growing up in the South. Described as having the "cadence of an angry auctioneer," he frequently jokes about his Alabama roots, 1990s nostalgia, and his self-proclaimed status as a "Waffle House enthusiast". His Netflix special “Nostalgic” airs on Tuesday, March 10.
END:VEVENT
END:VCALENDAR