BEGIN:VCALENDAR
VERSION:2.0
PRODID:-//hacksw/handcal//NONSGML v1.0//EN
BEGIN:VEVENT
DTSTAMP:20261114T033000Z
DTSTART:20261114T033000Z
DTEND:20261114T053000Z

SUMMARY:Blue Öyster Cult 
DESCRIPTION:Blue Öyster Cult is a legendary American rock band formed in Long Island, New York in 1967, famous for blending hard rock with psychedelic and occult themes. They achieved mainstream success with iconic hits like "(Don&#39;t Fear) The Reaper", "Godzilla," and "Burnin&#39; for You," selling over 25 million records worldwide. Today, original members Buck Dharma and Eric Bloom continue to lead the group through consistent touring and new studio releases
END:VEVENT
END:VCALENDAR