BEGIN:VCALENDAR
VERSION:2.0
PRODID:-//hacksw/handcal//NONSGML v1.0//EN
BEGIN:VEVENT
DTSTAMP:20251130T030000Z
DTSTART:20251130T030000Z
DTEND:20251130T050000Z

SUMMARY:Anaheim Ballet's Nutcracker
DESCRIPTION:The holiday season comes to life in Anaheim Ballet&#39;s Nutcracker, the heartwarming tale of Clara and her Nutcracker Doll who changes her woeful winter into a fanciful feast in Candyland. The Nutcracker ballet is a cornerstone of seasonal family entertainment and tradition. Anaheim Ballet&#39;s full-length Nutcracker is the production you and your family must see, a story presented with heart as only AB can present it, more than dance... Experience the spectacle of a towering Christmas tree, waltzing flowers, battling toy soldiers and menacing mice. The enduring theme remains unchanged - good overcomes evil - but AB&#39;s staging of the family classic is constantly updated, which keeps the production fresh. Anaheim Ballet celebrates its 39th season of Nutcracker performances featuring staging and choreography by Sarma Lapenieks Rosenberg, Anaheim Ballet’s acclaimed Artistic Director. Anaheim Ballet, founded by Directors Lawrence Rosenberg and Sarma Lapenieks Rosenberg, has been a premiere Southern California arts organization for over forty years and is the resident ballet company of the City of Anaheim.
END:VEVENT
END:VCALENDAR