BEGIN:VCALENDAR
VERSION:2.0
PRODID:-//hacksw/handcal//NONSGML v1.0//EN
BEGIN:VEVENT
DTSTAMP:20251212T033000Z
DTSTART:20251212T033000Z
DTEND:20251212T053000Z

SUMMARY:A Drag Queen Christmas
DESCRIPTION:Murray & Peter Present “A Drag Queen Christmas” hosted by Nina West, is the longest-running drag tour in America. Get ready for your favorite queens performing live on stage. We’ve got Lexi, Shea Coulee, Jewels Sparkles, Crystal Methyd, Suzie Toot, Brooke Lynn Hytes, and Lydia B. Kollins. VIP Meet & Greet add-on tickets are also available. There will be a 20-minute intermission. Ages 18+ welcome.
END:VEVENT
END:VCALENDAR